BEGIN:VCALENDAR
VERSION:2.0
PRODID:-//Historic Downtown Clinton - ECPv6.15.20//NONSGML v1.0//EN
CALSCALE:GREGORIAN
METHOD:PUBLISH
X-ORIGINAL-URL:https://historicdowntownclinton.org
X-WR-CALDESC:Events for Historic Downtown Clinton
REFRESH-INTERVAL;VALUE=DURATION:PT1H
X-Robots-Tag:noindex
X-PUBLISHED-TTL:PT1H
BEGIN:VTIMEZONE
TZID:America/New_York
BEGIN:DAYLIGHT
TZOFFSETFROM:-0500
TZOFFSETTO:-0400
TZNAME:EDT
DTSTART:20240310T070000
END:DAYLIGHT
BEGIN:STANDARD
TZOFFSETFROM:-0400
TZOFFSETTO:-0500
TZNAME:EST
DTSTART:20241103T060000
END:STANDARD
BEGIN:DAYLIGHT
TZOFFSETFROM:-0500
TZOFFSETTO:-0400
TZNAME:EDT
DTSTART:20250309T070000
END:DAYLIGHT
BEGIN:STANDARD
TZOFFSETFROM:-0400
TZOFFSETTO:-0500
TZNAME:EST
DTSTART:20251102T060000
END:STANDARD
BEGIN:DAYLIGHT
TZOFFSETFROM:-0500
TZOFFSETTO:-0400
TZNAME:EDT
DTSTART:20260308T070000
END:DAYLIGHT
BEGIN:STANDARD
TZOFFSETFROM:-0400
TZOFFSETTO:-0500
TZNAME:EST
DTSTART:20261101T060000
END:STANDARD
END:VTIMEZONE
BEGIN:VEVENT
DTSTART;TZID=America/New_York:20250502T090000
DTEND;TZID=America/New_York:20250502T150000
DTSTAMP:20260419T105859
CREATED:20250227T195011Z
LAST-MODIFIED:20250227T195353Z
UID:10000013-1746176400-1746198000@historicdowntownclinton.org
SUMMARY:Museum of Appalachia Sheep Shearing Days
DESCRIPTION:For more information visit their website \nSheep Shearing Day
URL:https://historicdowntownclinton.org/event/museum-of-appalachia-sheep-sheering-days/
CATEGORIES:Community Event
END:VEVENT
BEGIN:VEVENT
DTSTART;TZID=America/New_York:20250502T120000
DTEND;TZID=America/New_York:20250502T180000
DTSTAMP:20260419T105859
CREATED:20250207T163314Z
LAST-MODIFIED:20250207T163321Z
UID:10000007-1746187200-1746208800@historicdowntownclinton.org
SUMMARY:Clinch River Antique Festival
DESCRIPTION:
URL:https://historicdowntownclinton.org/event/clinch-river-antique-festival-2/
CATEGORIES:Historic Downtown Clinton
ATTACH;FMTTYPE=image/jpeg:https://historicdowntownclinton.org/wp-content/uploads/2025/02/ff23-32-16x9-1.jpg
END:VEVENT
BEGIN:VEVENT
DTSTART;TZID=America/New_York:20250503T090000
DTEND;TZID=America/New_York:20250503T170000
DTSTAMP:20260419T105859
CREATED:20250207T162850Z
LAST-MODIFIED:20250207T162850Z
UID:10000008-1746262800-1746291600@historicdowntownclinton.org
SUMMARY:Clinch River Antique Festival
DESCRIPTION:
URL:https://historicdowntownclinton.org/event/clinch-river-antique-festival/2025-05-03/
CATEGORIES:Historic Downtown Clinton
END:VEVENT
BEGIN:VEVENT
DTSTART;TZID=America/New_York:20250503T160000
DTEND;TZID=America/New_York:20250503T200000
DTSTAMP:20260419T105859
CREATED:20250228T145202Z
LAST-MODIFIED:20250228T145202Z
UID:10000026-1746288000-1746302400@historicdowntownclinton.org
SUMMARY:Derby at the Pearl - Anderson County Chamber of Commerce
DESCRIPTION:Visit their website for more info: \nHome
URL:https://historicdowntownclinton.org/event/derby-at-the-pearl-anderson-county-chamber-of-commerce/
CATEGORIES:Community Event
END:VEVENT
END:VCALENDAR